BEGIN:VCALENDAR
VERSION:2.0
PRODID:-//Montessori Campus Dorsten - ECPv6.15.11//NONSGML v1.0//EN
CALSCALE:GREGORIAN
METHOD:PUBLISH
X-ORIGINAL-URL:https://montessori-dorsten.org
X-WR-CALDESC:Veranstaltungen für Montessori Campus Dorsten
REFRESH-INTERVAL;VALUE=DURATION:PT1H
X-Robots-Tag:noindex
X-PUBLISHED-TTL:PT1H
BEGIN:VTIMEZONE
TZID:Europe/Berlin
BEGIN:DAYLIGHT
TZOFFSETFROM:+0100
TZOFFSETTO:+0200
TZNAME:CEST
DTSTART:20220327T010000
END:DAYLIGHT
BEGIN:STANDARD
TZOFFSETFROM:+0200
TZOFFSETTO:+0100
TZNAME:CET
DTSTART:20221030T010000
END:STANDARD
BEGIN:DAYLIGHT
TZOFFSETFROM:+0100
TZOFFSETTO:+0200
TZNAME:CEST
DTSTART:20230326T010000
END:DAYLIGHT
BEGIN:STANDARD
TZOFFSETFROM:+0200
TZOFFSETTO:+0100
TZNAME:CET
DTSTART:20231029T010000
END:STANDARD
BEGIN:DAYLIGHT
TZOFFSETFROM:+0100
TZOFFSETTO:+0200
TZNAME:CEST
DTSTART:20240331T010000
END:DAYLIGHT
BEGIN:STANDARD
TZOFFSETFROM:+0200
TZOFFSETTO:+0100
TZNAME:CET
DTSTART:20241027T010000
END:STANDARD
END:VTIMEZONE
BEGIN:VEVENT
DTSTART;TZID=Europe/Berlin:20231023T193000
DTEND;TZID=Europe/Berlin:20231023T210000
DTSTAMP:20260421T132207
CREATED:20230822T183651Z
LAST-MODIFIED:20240125T090536Z
UID:9457-1698089400-1698094800@montessori-dorsten.org
SUMMARY:LernMOmeNTE Medien und Medienkompetenz im Grundschulalter
DESCRIPTION:Zu diesem Elternabend sind alle Interessierten herzlich eingeladen. Wie können wir uns als Familie sicher und entspannt in der digitalen Welt bewegen? \nFür eine bessere Planung melden Sie bitte Ihre Teilnahme an.
URL:https://montessori-dorsten.org/veranstaltungen/lernmomente-medien-und-medienkompetenz-im-grundschulalter/
CATEGORIES:Grundschule
END:VEVENT
BEGIN:VEVENT
DTSTART;VALUE=DATE:20231002
DTEND;VALUE=DATE:20231015
DTSTAMP:20260421T132207
CREATED:20230822T183747Z
LAST-MODIFIED:20230822T183747Z
UID:9459-1696204800-1697327999@montessori-dorsten.org
SUMMARY:Herbstferien
DESCRIPTION:
URL:https://montessori-dorsten.org/veranstaltungen/herbstferien-5/
CATEGORIES:Grundschule
END:VEVENT
BEGIN:VEVENT
DTSTART;TZID=Europe/Berlin:20230919T193000
DTEND;TZID=Europe/Berlin:20230919T210000
DTSTAMP:20260421T132207
CREATED:20230822T183041Z
LAST-MODIFIED:20230822T183041Z
UID:9455-1695151800-1695157200@montessori-dorsten.org
SUMMARY:Informationsabend
DESCRIPTION:
URL:https://montessori-dorsten.org/veranstaltungen/informationsabend/
CATEGORIES:Grundschule
END:VEVENT
BEGIN:VEVENT
DTSTART;TZID=Europe/Berlin:20230912T140000
DTEND;TZID=Europe/Berlin:20230912T160000
DTSTAMP:20260421T132207
CREATED:20230822T182613Z
LAST-MODIFIED:20230822T182827Z
UID:9453-1694527200-1694534400@montessori-dorsten.org
SUMMARY:Offenes Klassenzimmer
DESCRIPTION:Das offene Klassenzimmer dürfen Sie gerne gemeinsam mit Ihrem Kind besuchen.
URL:https://montessori-dorsten.org/veranstaltungen/offenes-klassenzimmer/
CATEGORIES:Grundschule
END:VEVENT
BEGIN:VEVENT
DTSTART;TZID=Europe/Berlin:20230911T080000
DTEND;TZID=Europe/Berlin:20230916T100000
DTSTAMP:20260421T132207
CREATED:20230822T182424Z
LAST-MODIFIED:20230822T182424Z
UID:9451-1694419200-1694858400@montessori-dorsten.org
SUMMARY:Hospitationstage
DESCRIPTION:Vom 11.-16.09.2023 haben Erwachsene die Möglichkeit\, während des Unterrichts zu hospitieren und zu erleben\, wie Kinder an unserer Schule lernen. \nFür eine bessere Planung melden Sie Ihren Besuch bitte an.
URL:https://montessori-dorsten.org/veranstaltungen/hospitationstage/
CATEGORIES:Grundschule
END:VEVENT
BEGIN:VEVENT
DTSTART;TZID=Europe/Berlin:20230907T190000
DTEND;TZID=Europe/Berlin:20230907T210000
DTSTAMP:20260421T132207
CREATED:20230822T181902Z
LAST-MODIFIED:20230822T181902Z
UID:9449-1694113200-1694120400@montessori-dorsten.org
SUMMARY:Materialabend - Wie Kinder an unserer Schule lernen
DESCRIPTION:Im Verlauf des Abends\, zu dem jeder Interessierte herzlich eingeladen ist\, stellen wir Ihnen unsere Montessori-Materialien vor\, mit denen die Kinder in den verschiedenen Jahrgängen arbeiten und lernen. \nFür eine bessere Planung melden Sie bitte Ihren Besuch an.
URL:https://montessori-dorsten.org/veranstaltungen/materialabend-wie-kinder-an-unserer-schule-lernen/
CATEGORIES:Grundschule
END:VEVENT
BEGIN:VEVENT
DTSTART;TZID=Europe/Berlin:20230621T080000
DTEND;TZID=Europe/Berlin:20230621T110000
DTSTAMP:20260421T132207
CREATED:20220829T103850Z
LAST-MODIFIED:20220829T103850Z
UID:6825-1687334400-1687345200@montessori-dorsten.org
SUMMARY:Letzter Schultag vor den Sommerferien
DESCRIPTION:
URL:https://montessori-dorsten.org/veranstaltungen/letzter-schultag-vor-den-sommerferien/
END:VEVENT
BEGIN:VEVENT
DTSTART;TZID=Europe/Berlin:20230621T080000
DTEND;TZID=Europe/Berlin:20230621T103000
DTSTAMP:20260421T132207
CREATED:20230523T065017Z
LAST-MODIFIED:20230523T065017Z
UID:8829-1687334400-1687343400@montessori-dorsten.org
SUMMARY:Letzter Schultag (Unterrichtsschluss 10:30 Uhr)
DESCRIPTION:
URL:https://montessori-dorsten.org/veranstaltungen/letzter-schultag-unterrichtsschluss-1030-uhr/
CATEGORIES:Grundschule
END:VEVENT
BEGIN:VEVENT
DTSTART;TZID=Europe/Berlin:20230619T133000
DTEND;TZID=Europe/Berlin:20230619T163000
DTSTAMP:20260421T132207
CREATED:20230523T064359Z
LAST-MODIFIED:20230523T064359Z
UID:8826-1687181400-1687192200@montessori-dorsten.org
SUMMARY:Elternsprechtag
DESCRIPTION:
URL:https://montessori-dorsten.org/veranstaltungen/elternsprechtag-2/
CATEGORIES:Grundschule
END:VEVENT
BEGIN:VEVENT
DTSTART;TZID=Europe/Berlin:20230616T133000
DTEND;TZID=Europe/Berlin:20230616T163000
DTSTAMP:20260421T132207
CREATED:20210822T110018Z
LAST-MODIFIED:20230523T064242Z
UID:4934-1686922200-1686933000@montessori-dorsten.org
SUMMARY:Elternsprechtag
DESCRIPTION:
URL:https://montessori-dorsten.org/veranstaltungen/beweglicher-ferientag-4/
CATEGORIES:Grundschule
END:VEVENT
BEGIN:VEVENT
DTSTART;VALUE=DATE:20230616
DTEND;VALUE=DATE:20230617
DTSTAMP:20260421T132207
CREATED:20220829T103800Z
LAST-MODIFIED:20220829T103800Z
UID:6823-1686873600-1686959999@montessori-dorsten.org
SUMMARY:Abschlussfeier des 10. Jahrgangs
DESCRIPTION:
URL:https://montessori-dorsten.org/veranstaltungen/abschlussfeier-des-10-jahrgangs-2/
CATEGORIES:Realschule
END:VEVENT
BEGIN:VEVENT
DTSTART;TZID=Europe/Berlin:20230615T133000
DTEND;TZID=Europe/Berlin:20230615T163000
DTSTAMP:20260421T132207
CREATED:20230523T064328Z
LAST-MODIFIED:20230523T064328Z
UID:8824-1686835800-1686846600@montessori-dorsten.org
SUMMARY:Elternsprechtag
DESCRIPTION:
URL:https://montessori-dorsten.org/veranstaltungen/elternsprechtag/
CATEGORIES:Grundschule
END:VEVENT
BEGIN:VEVENT
DTSTART;VALUE=DATE:20230609
DTEND;VALUE=DATE:20230610
DTSTAMP:20260421T132207
CREATED:20230523T065234Z
LAST-MODIFIED:20230523T065234Z
UID:8833-1686268800-1686355199@montessori-dorsten.org
SUMMARY:Beweglicher Ferientag
DESCRIPTION:
URL:https://montessori-dorsten.org/veranstaltungen/beweglicher-ferientag-13/
CATEGORIES:Grundschule
END:VEVENT
BEGIN:VEVENT
DTSTART;VALUE=DATE:20230609
DTEND;VALUE=DATE:20230610
DTSTAMP:20260421T132207
CREATED:20220829T103720Z
LAST-MODIFIED:20220829T103720Z
UID:6821-1686268800-1686355199@montessori-dorsten.org
SUMMARY:Beweglicher Ferientag
DESCRIPTION:
URL:https://montessori-dorsten.org/veranstaltungen/beweglicher-ferientag-12/
CATEGORIES:Realschule
END:VEVENT
BEGIN:VEVENT
DTSTART;VALUE=DATE:20230608
DTEND;VALUE=DATE:20230609
DTSTAMP:20260421T132207
CREATED:20230523T065212Z
LAST-MODIFIED:20230523T065212Z
UID:8831-1686182400-1686268799@montessori-dorsten.org
SUMMARY:FEIERTAG (Fronleichnam)
DESCRIPTION:
URL:https://montessori-dorsten.org/veranstaltungen/feiertag-fronleichnam/
CATEGORIES:Grundschule
END:VEVENT
BEGIN:VEVENT
DTSTART;VALUE=DATE:20230607
DTEND;VALUE=DATE:20230608
DTSTAMP:20260421T132207
CREATED:20220829T103642Z
LAST-MODIFIED:20220829T103642Z
UID:6819-1686096000-1686182399@montessori-dorsten.org
SUMMARY:Wandertag
DESCRIPTION:
URL:https://montessori-dorsten.org/veranstaltungen/wandertag/
CATEGORIES:Realschule
END:VEVENT
BEGIN:VEVENT
DTSTART;VALUE=DATE:20230530
DTEND;VALUE=DATE:20230531
DTSTAMP:20260421T132207
CREATED:20230523T064009Z
LAST-MODIFIED:20230523T064009Z
UID:8821-1685404800-1685491199@montessori-dorsten.org
SUMMARY:Pfingstferien
DESCRIPTION:
URL:https://montessori-dorsten.org/veranstaltungen/pfingstferien/
CATEGORIES:Grundschule
END:VEVENT
BEGIN:VEVENT
DTSTART;VALUE=DATE:20230529
DTEND;VALUE=DATE:20230530
DTSTAMP:20260421T132207
CREATED:20230523T063933Z
LAST-MODIFIED:20230523T064454Z
UID:8819-1685318400-1685404799@montessori-dorsten.org
SUMMARY:Pfingstmontag
DESCRIPTION:
URL:https://montessori-dorsten.org/veranstaltungen/pfingstmontag-2/
CATEGORIES:Grundschule
END:VEVENT
BEGIN:VEVENT
DTSTART;VALUE=DATE:20230519
DTEND;VALUE=DATE:20230520
DTSTAMP:20260421T132207
CREATED:20220829T103555Z
LAST-MODIFIED:20220829T103555Z
UID:6817-1684454400-1684540799@montessori-dorsten.org
SUMMARY:Beweglicher Ferientag
DESCRIPTION:
URL:https://montessori-dorsten.org/veranstaltungen/beweglicher-ferientag-11/
CATEGORIES:Realschule
END:VEVENT
BEGIN:VEVENT
DTSTART;VALUE=DATE:20230511
DTEND;VALUE=DATE:20230512
DTSTAMP:20260421T132207
CREATED:20220829T103514Z
LAST-MODIFIED:20220829T103514Z
UID:6815-1683763200-1683849599@montessori-dorsten.org
SUMMARY:Zentrale Abschlussprüfung Mathematik
DESCRIPTION:
URL:https://montessori-dorsten.org/veranstaltungen/zentrale-abschlusspruefung-mathematik/
CATEGORIES:Realschule
END:VEVENT
BEGIN:VEVENT
DTSTART;VALUE=DATE:20230509
DTEND;VALUE=DATE:20230510
DTSTAMP:20260421T132207
CREATED:20220829T103435Z
LAST-MODIFIED:20220829T103435Z
UID:6813-1683590400-1683676799@montessori-dorsten.org
SUMMARY:Zentrale Abschlussprüfung Englisch
DESCRIPTION:
URL:https://montessori-dorsten.org/veranstaltungen/zentrale-abschlusspruefung-englisch/
CATEGORIES:Realschule
END:VEVENT
BEGIN:VEVENT
DTSTART;VALUE=DATE:20230504
DTEND;VALUE=DATE:20230505
DTSTAMP:20260421T132207
CREATED:20220829T103403Z
LAST-MODIFIED:20220829T103403Z
UID:6811-1683158400-1683244799@montessori-dorsten.org
SUMMARY:Zentrale Abschlussprüfung Deutsch
DESCRIPTION:
URL:https://montessori-dorsten.org/veranstaltungen/zentrale-abschlusspruefung-deutsch/
CATEGORIES:Realschule
END:VEVENT
BEGIN:VEVENT
DTSTART;VALUE=DATE:20230501
DTEND;VALUE=DATE:20230502
DTSTAMP:20260421T132207
CREATED:20220815T164340Z
LAST-MODIFIED:20220815T164340Z
UID:6644-1682899200-1682985599@montessori-dorsten.org
SUMMARY:Feiertag (Tag der Arbeit)
DESCRIPTION:
URL:https://montessori-dorsten.org/veranstaltungen/feiertag-tag-der-arbeit/
CATEGORIES:Grundschule
END:VEVENT
BEGIN:VEVENT
DTSTART;TZID=Europe/Berlin:20230427T193000
DTEND;TZID=Europe/Berlin:20230427T203000
DTSTAMP:20260421T132207
CREATED:20220815T164255Z
LAST-MODIFIED:20220815T164255Z
UID:6642-1682623800-1682627400@montessori-dorsten.org
SUMMARY:Rat der Schule
DESCRIPTION:
URL:https://montessori-dorsten.org/veranstaltungen/rat-der-schule-4/
CATEGORIES:Grundschule
END:VEVENT
BEGIN:VEVENT
DTSTART;VALUE=DATE:20230427
DTEND;VALUE=DATE:20230428
DTSTAMP:20260421T132207
CREATED:20220829T103312Z
LAST-MODIFIED:20220829T103317Z
UID:6809-1682553600-1682639999@montessori-dorsten.org
SUMMARY:Girls&Boysday 7. Jahrgang
DESCRIPTION:
URL:https://montessori-dorsten.org/veranstaltungen/girlsboysday-7-jahrgang/
CATEGORIES:Realschule
END:VEVENT
BEGIN:VEVENT
DTSTART;VALUE=DATE:20230422
DTEND;VALUE=DATE:20230423
DTSTAMP:20260421T132207
CREATED:20220815T163940Z
LAST-MODIFIED:20220815T163940Z
UID:6640-1682121600-1682207999@montessori-dorsten.org
SUMMARY:Schulfest
DESCRIPTION:
URL:https://montessori-dorsten.org/veranstaltungen/schulfest/
CATEGORIES:Grundschule
END:VEVENT
BEGIN:VEVENT
DTSTART;VALUE=DATE:20230410
DTEND;VALUE=DATE:20230415
DTSTAMP:20260421T132207
CREATED:20220815T163828Z
LAST-MODIFIED:20220815T163828Z
UID:6638-1681084800-1681516799@montessori-dorsten.org
SUMMARY:Osterferien
DESCRIPTION:
URL:https://montessori-dorsten.org/veranstaltungen/osterferien-3/
CATEGORIES:Grundschule
END:VEVENT
BEGIN:VEVENT
DTSTART;VALUE=DATE:20230407
DTEND;VALUE=DATE:20230408
DTSTAMP:20260421T132207
CREATED:20220815T163748Z
LAST-MODIFIED:20220815T163748Z
UID:6636-1680825600-1680911999@montessori-dorsten.org
SUMMARY:Feiertag (Karfreitag)
DESCRIPTION:
URL:https://montessori-dorsten.org/veranstaltungen/feiertag-karfreitag/
CATEGORIES:Grundschule
END:VEVENT
BEGIN:VEVENT
DTSTART;VALUE=DATE:20230403
DTEND;VALUE=DATE:20230415
DTSTAMP:20260421T132207
CREATED:20220829T103216Z
LAST-MODIFIED:20220829T103221Z
UID:6807-1680480000-1681516799@montessori-dorsten.org
SUMMARY:Osterferien
DESCRIPTION:
URL:https://montessori-dorsten.org/veranstaltungen/osterferien-4/
CATEGORIES:Realschule
END:VEVENT
BEGIN:VEVENT
DTSTART;VALUE=DATE:20230403
DTEND;VALUE=DATE:20230407
DTSTAMP:20260421T132207
CREATED:20220815T163654Z
LAST-MODIFIED:20220815T163654Z
UID:6634-1680480000-1680825599@montessori-dorsten.org
SUMMARY:Osterferien / OGS
DESCRIPTION:
URL:https://montessori-dorsten.org/veranstaltungen/osterferien-ogs/
CATEGORIES:Grundschule
END:VEVENT
END:VCALENDAR